BEGIN:VCALENDAR
VERSION:2.0
PRODID:-//Fepa - ECPv6.15.20//NONSGML v1.0//EN
CALSCALE:GREGORIAN
METHOD:PUBLISH
X-WR-CALNAME:Fepa
X-ORIGINAL-URL:https://www.fepa.cat
X-WR-CALDESC:Esdeveniments per Fepa
REFRESH-INTERVAL;VALUE=DURATION:PT1H
X-Robots-Tag:noindex
X-PUBLISHED-TTL:PT1H
BEGIN:VTIMEZONE
TZID:Atlantic/Canary
BEGIN:DAYLIGHT
TZOFFSETFROM:+0000
TZOFFSETTO:+0100
TZNAME:WEST
DTSTART:20250330T010000
END:DAYLIGHT
BEGIN:STANDARD
TZOFFSETFROM:+0100
TZOFFSETTO:+0000
TZNAME:WET
DTSTART:20251026T010000
END:STANDARD
BEGIN:DAYLIGHT
TZOFFSETFROM:+0000
TZOFFSETTO:+0100
TZNAME:WEST
DTSTART:20260329T010000
END:DAYLIGHT
BEGIN:STANDARD
TZOFFSETFROM:+0100
TZOFFSETTO:+0000
TZNAME:WET
DTSTART:20261025T010000
END:STANDARD
BEGIN:DAYLIGHT
TZOFFSETFROM:+0000
TZOFFSETTO:+0100
TZNAME:WEST
DTSTART:20270328T010000
END:DAYLIGHT
BEGIN:STANDARD
TZOFFSETFROM:+0100
TZOFFSETTO:+0000
TZNAME:WET
DTSTART:20271031T010000
END:STANDARD
END:VTIMEZONE
BEGIN:VEVENT
DTSTART;TZID=Atlantic/Canary:20260528T103000
DTEND;TZID=Atlantic/Canary:20260529T140000
DTSTAMP:20260425T140022
CREATED:20260304T080505Z
LAST-MODIFIED:20260311T095838Z
UID:10000009-1779964200-1780063200@www.fepa.cat
SUMMARY:Caminar amb drets: cap a una plena emancipació
DESCRIPTION:Les Jornades FEPA s’han consolidat com a espai de trobada i reflexió col·lectiva al voltant dels reptes de l’emancipació juvenil. Al llarg de les diferents edicions\, han reunit professionals\, responsables de l’administració pública\, entitats del tercer sector i persones joves per compartir coneixements\, experiències i propostes que contribueixin a millorar els processos de transició a la vida adulta. \nEn la XIX edició\, les jornades s’aborden des d’una perspectiva de drets\, entenent l’emancipació juvenil no només com un procés individual\, sinó com una qüestió de justícia social que requereix garantir oportunitats reals\, suports adequats i el ple exercici de drets per a totes les persones joves. \nPROGRAMA\nDijous28 de maig\n10h CAFÈ DE BENVINGUDA \n10.40h OBERTURA \n11.00h BENVINGUDA INSTITUACIONAL \n11.30h PONÈNCIA INAUGURAL | Construir garanties\, ampliar oportunitats: l’evolució dels drets cap a una emancipació juvenil efectiva \n12.30h TAULA D’INCIDÈNCIA | Camina\, incideix i transforma: cap a la plena emancipació \n14h DINAR \n15.15h ESPAI FEPA | Coneixement aplicat per a la transfromació social \n16h FEPA TALKS \n\nDiversitat i antiracisme\nParticipació juvenil\nSalut mental\n\n18.30h ESPAI LÚDIC \n21.30h FINAL DE LA JORNADA \nDivendres 29 de maig\n9.30h OBERTURA \n9.35h PÒDAST EN DIRECTE | Amb drets i sense filtre \n10.35h TAULA DE BONES PRÀCTIQUES | Veus que transformen: experiències inspiradores d’impacte social \n11.30h PAUSA CAFÈ \n12h DINÀMICA DE TREBALL | Avançar en drets: construint camí en xarxaEspai de treball en grups en base a les temàtiques següents: \n\nModel d’acompanyament\nParticipació juvenil\nTreball en xarxa i enfortiment entre entitats\n\n13.30h CLOENDA \n14.00h PICOTEIG \nINSCRIURE'MDESCARREGAR EL PRE-PROGRAMA
URL:https://www.fepa.cat/event/caminant-amb-drets-cap-a-una-plena-emancipacio/
LOCATION:Universidad Rey Juan Carlos\,  campus de Vicálvaro\, P.º de los Artilleros\, 38\, Madrid\, Madrid\, 28032
END:VEVENT
END:VCALENDAR